BEGIN:VCALENDAR
VERSION:2.0
PRODID:-//eventon.com NONSGML v1.0//EN
CALSCALE:GREGORIAN
METHOD:PUBLISH
BEGIN:VEVENT
UID:69e73c0f01dca
DTSTAMP:20260421T085751Z
DTSTART:20251001T200000Z
DTEND:20251002T030000Z
LOCATION:Medicon Village\,  Lund
SUMMARY:Det handlar om livet – broar till tidig palliativ vård
DESCRIPTION:På den här konferensen vill vi avdramatisera ordet palliativ\
 ,  sprida inspiration och kunskap om vad tidig palliativ vård kan vara\,  
 och bygga broar mellan olika vårdformer och professioner. Det blir present
 ationer\,  paneldiskussioner\,  demonstationssamtal med mera. Konferensen r
 iktar sig till alla som möter patienter med palliativa vårdbehov oavsett 
 vårdform. Mer information[..]\nhttps://palliativtutvecklingscentrum.se/eve
 nts/det-handlar-om-livet-broar-till-tidig-palliativ-vard/
URL:https://palliativtutvecklingscentrum.se/events/det-handlar-om-livet-broar-till-tidig-palliativ-vard/
END:VEVENT
END:VCALENDAR